BEGIN:VCALENDAR
VERSION:2.0
PRODID:-//MARIAN SERVANTS OF DIVINE PROVIDENCE® - ECPv6.15.17.1//NONSGML v1.0//EN
CALSCALE:GREGORIAN
METHOD:PUBLISH
X-WR-CALNAME:MARIAN SERVANTS OF DIVINE PROVIDENCE®
X-ORIGINAL-URL:https://divineprovidence.org
X-WR-CALDESC:Events for MARIAN SERVANTS OF DIVINE PROVIDENCE®
REFRESH-INTERVAL;VALUE=DURATION:PT1H
X-Robots-Tag:noindex
X-PUBLISHED-TTL:PT1H
BEGIN:VTIMEZONE
TZID:America/New_York
BEGIN:DAYLIGHT
TZOFFSETFROM:-0500
TZOFFSETTO:-0400
TZNAME:EDT
DTSTART:20240310T070000
END:DAYLIGHT
BEGIN:STANDARD
TZOFFSETFROM:-0400
TZOFFSETTO:-0500
TZNAME:EST
DTSTART:20241103T060000
END:STANDARD
BEGIN:DAYLIGHT
TZOFFSETFROM:-0500
TZOFFSETTO:-0400
TZNAME:EDT
DTSTART:20250309T070000
END:DAYLIGHT
BEGIN:STANDARD
TZOFFSETFROM:-0400
TZOFFSETTO:-0500
TZNAME:EST
DTSTART:20251102T060000
END:STANDARD
BEGIN:DAYLIGHT
TZOFFSETFROM:-0500
TZOFFSETTO:-0400
TZNAME:EDT
DTSTART:20260308T070000
END:DAYLIGHT
BEGIN:STANDARD
TZOFFSETFROM:-0400
TZOFFSETTO:-0500
TZNAME:EST
DTSTART:20261101T060000
END:STANDARD
END:VTIMEZONE
BEGIN:VEVENT
DTSTART;TZID=America/New_York:20250317T183000
DTEND;TZID=America/New_York:20250321T203000
DTSTAMP:20260420T191450
CREATED:20240521T184843Z
LAST-MODIFIED:20250206T184953Z
UID:8865-1742236200-1742589000@divineprovidence.org
SUMMARY:Healing Prayer\, Theory & Practice  - March 17-21\, 2025
DESCRIPTION:[vc_row][vc_column][vc_column_text css=””]This course is designed for individuals who desire both a theoretical knowledge of healing and a practical workshop on how to pray for themselves and others in the context of Spiritual Direction.[/vc_column_text][/vc_column][/vc_row][vc_row css=”.vc_custom_1593198448329{margin-bottom: 5% !important;}”][vc_column width=”1/3″][/vc_column][vc_column width=”1/3″][vc_btn title=”DOWNLOAD THE FLYER HERE AND SCROLL DOWN TO REGISTER” style=”custom” custom_background=”#932f42″ custom_text=”#ffffff” size=”lg” align=”center” css=”.vc_custom_1738866969489{margin-bottom: 0px !important;padding-top: 20px !important;padding-bottom: 0px !important;}” button_block=”true” link=”url:https%3A%2F%2Fdivineprovidence.org%2Fwp-content%2Fuploads%2F2025%2F02%2FHealing-Prayer-Theory-and-Practice-March-2025.pdf|target:_blank” el_class=”btn btnpadfix”][/vc_column][vc_column width=”1/3″][/vc_column][/vc_row][vc_row][vc_column][vc_single_image image=”9387″ img_size=”large” alignment=”center” css=””][/vc_column][/vc_row][vc_row][vc_column][vc_column_text css=””] \nClick HERE to register for this event.\n[/vc_column_text][/vc_column][/vc_row]
URL:https://divineprovidence.org/event/healing-prayer-theory-practice-march-17-21-2025/
LOCATION:FL
CATEGORIES:General Events,Healing,School
ATTACH;FMTTYPE=image/jpeg:https://divineprovidence.org/wp-content/uploads/2025/02/Healing-Prayer-Theory-and-Practice-16x9-600-x-400-px.jpg
ORGANIZER;CN="Our Lady of Divine Providence House of Prayer%C2%AE":MAILTO:info@divineprovidence.org
END:VEVENT
END:VCALENDAR