BEGIN:VCALENDAR
VERSION:2.0
PRODID:-//MARIAN SERVANTS OF DIVINE PROVIDENCE® - ECPv6.15.20//NONSGML v1.0//EN
CALSCALE:GREGORIAN
METHOD:PUBLISH
X-ORIGINAL-URL:https://divineprovidence.org
X-WR-CALDESC:Events for MARIAN SERVANTS OF DIVINE PROVIDENCE®
REFRESH-INTERVAL;VALUE=DURATION:PT1H
X-Robots-Tag:noindex
X-PUBLISHED-TTL:PT1H
BEGIN:VTIMEZONE
TZID:America/New_York
BEGIN:DAYLIGHT
TZOFFSETFROM:-0500
TZOFFSETTO:-0400
TZNAME:EDT
DTSTART:20230312T070000
END:DAYLIGHT
BEGIN:STANDARD
TZOFFSETFROM:-0400
TZOFFSETTO:-0500
TZNAME:EST
DTSTART:20231105T060000
END:STANDARD
BEGIN:DAYLIGHT
TZOFFSETFROM:-0500
TZOFFSETTO:-0400
TZNAME:EDT
DTSTART:20240310T070000
END:DAYLIGHT
BEGIN:STANDARD
TZOFFSETFROM:-0400
TZOFFSETTO:-0500
TZNAME:EST
DTSTART:20241103T060000
END:STANDARD
BEGIN:DAYLIGHT
TZOFFSETFROM:-0500
TZOFFSETTO:-0400
TZNAME:EDT
DTSTART:20250309T070000
END:DAYLIGHT
BEGIN:STANDARD
TZOFFSETFROM:-0400
TZOFFSETTO:-0500
TZNAME:EST
DTSTART:20251102T060000
END:STANDARD
END:VTIMEZONE
BEGIN:VEVENT
DTSTART;TZID=America/New_York:20240517T190000
DTEND;TZID=America/New_York:20240519T120000
DTSTAMP:20260425T070237
CREATED:20240301T210404Z
LAST-MODIFIED:20240318T190259Z
UID:8768-1715972400-1716120000@divineprovidence.org
SUMMARY:Pentecost Revival Weekend Retreat - May 17-19\, 2024
DESCRIPTION:[vc_row][vc_column width=”1/2″][/vc_column][/vc_row][vc_row css=”.vc_custom_1593198448329{margin-bottom: 5% !important;}”][vc_column width=”1/3″][/vc_column][vc_column width=”1/3″][/vc_column][vc_column width=”1/3″][/vc_column][/vc_row][vc_row][vc_column][vc_separator][vc_single_image image=”8776″ img_size=”large” add_caption=”yes” alignment=”center”][/vc_column][/vc_row][vc_row][vc_column][vc_separator][vc_cta h2=”Registration Now Open” txt_align=”center” style=”outline”] \nOnline Registration\n[/vc_cta][/vc_column][/vc_row][vc_row][vc_column][/vc_column][/vc_row]
URL:https://divineprovidence.org/event/pentecost-revival-weekend-retreat-may-17-19-2024/
LOCATION:FL
CATEGORIES:General Events,House of Prayer,Retreats
ATTACH;FMTTYPE=image/jpeg:https://divineprovidence.org/wp-content/uploads/2024/03/600x400-banner.jpg
END:VEVENT
END:VCALENDAR